BEGIN:VCALENDAR
VERSION:2.0
METHOD:PUBLISH
BEGIN:VEVENT
UID:WILD_APRICOT_EVENT_2727791_SESSION_1
DTSTART:20180817T060000Z
DTEND:20180817T115900Z
SUMMARY:RAEAWARDS 2018
LOCATION:Hilton Auckland\, Princes Wharf\, Quay Street\, Auckland
DESCRIPTION:https://www.researchassociation.org.nz/event-2727791\n\n\n  Celebrate the research\, data and insights industry's greatest achievements at the RAEAWARDS on 17th August\, 2018.\n  With eight category awards there'll be plenty to celebrate.\n  The formal proceedings will build-up to the sought after University of Auckland Business School Young Researcher of the Year Award\, the Symphony Research Effective Partnership Award and the Infotools Innovation Award. The formalities will reach a crescendo with presentation of the Research Now SSI Supreme Award.\n  All awards will be announced at this prestigious black-tie event at the Hilton Auckland with MC Jaquie Brown. Afterwards let your hair down with dancing to a DJ\, followed by drinks in the Bellini Bar after midnight.\n\n  Reward your team and secure seats now!\n  RSVP before 5pm Friday 3 August\, 2018\n\n\n
DTSTAMP:20260424T121630Z
END:VEVENT
END:VCALENDAR
